Package: AMARETTO Version: 1.24.0 Command: /home/biocbuild/R/R/bin/R CMD build --keep-empty-dirs --no-resave-data AMARETTO StartedAt: 2025-10-13 22:32:37 -0000 (Mon, 13 Oct 2025) EndedAt: 2025-10-13 22:33:55 -0000 (Mon, 13 Oct 2025) EllapsedTime: 78.0 seconds RetCode: 0 Status: OK PackageFile: AMARETTO_1.24.0.tar.gz PackageFileSize: 3.287 MiB