Package: AMARETTO Version: 1.26.0 Command: /Library/Frameworks/R.framework/Resources/bin/R CMD INSTALL AMARETTO StartedAt: 2025-10-30 15:30:46 -0400 (Thu, 30 Oct 2025) EndedAt: 2025-10-30 15:31:01 -0400 (Thu, 30 Oct 2025) EllapsedTime: 14.7 seconds RetCode: 0 Status: OK