Package: AMARETTO Version: 1.26.0 Command: /Library/Frameworks/R.framework/Resources/bin/R CMD build --keep-empty-dirs --no-resave-data AMARETTO StartedAt: 2025-10-30 15:37:00 -0400 (Thu, 30 Oct 2025) EndedAt: 2025-10-30 15:37:22 -0400 (Thu, 30 Oct 2025) EllapsedTime: 22.3 seconds RetCode: 0 Status: OK PackageFile: AMARETTO_1.26.0.tar.gz PackageFileSize: 3.256 MiB