Package: ALDEx2 Version: 1.42.0 Command: /home/biocbuild/bbs-3.22-bioc/R/bin/R CMD INSTALL ALDEx2 StartedAt: 2025-11-11 15:21:36 -0500 (Tue, 11 Nov 2025) EndedAt: 2025-11-11 15:21:59 -0500 (Tue, 11 Nov 2025) EllapsedTime: 22.5 seconds RetCode: 0 Status: OK