Package: ALDEx2 Version: 1.42.0 Command: /home/biocbuild/bbs-3.22-bioc/R/bin/R CMD build --keep-empty-dirs --no-resave-data --md5 ALDEx2 StartedAt: 2025-11-11 16:15:14 -0500 (Tue, 11 Nov 2025) EndedAt: 2025-11-11 16:16:54 -0500 (Tue, 11 Nov 2025) EllapsedTime: 100.1 seconds RetCode: 0 Status: OK PackageFile: ALDEx2_1.42.0.tar.gz PackageFileSize: 3.034 MiB