Package: ALDEx2 Version: 1.40.0 Command: /home/biocbuild/bbs-3.21-bioc/R/bin/R CMD INSTALL ALDEx2 StartedAt: 2025-10-15 15:16:42 -0400 (Wed, 15 Oct 2025) EndedAt: 2025-10-15 15:17:04 -0400 (Wed, 15 Oct 2025) EllapsedTime: 22.5 seconds RetCode: 0 Status: OK