Package: ALDEx2 Version: 1.40.0 Command: /home/biocbuild/bbs-3.21-bioc/R/bin/R CMD build --keep-empty-dirs --no-resave-data ALDEx2 StartedAt: 2025-10-15 16:09:18 -0400 (Wed, 15 Oct 2025) EndedAt: 2025-10-15 16:11:00 -0400 (Wed, 15 Oct 2025) EllapsedTime: 102.1 seconds RetCode: 0 Status: OK PackageFile: ALDEx2_1.40.0.tar.gz PackageFileSize: 3.03 MiB