Package: ALDEx2 Version: 1.42.0 Command: /Library/Frameworks/R.framework/Resources/bin/R CMD INSTALL ALDEx2 StartedAt: 2025-10-30 15:17:46 -0400 (Thu, 30 Oct 2025) EndedAt: 2025-10-30 15:18:18 -0400 (Thu, 30 Oct 2025) EllapsedTime: 31.8 seconds RetCode: 0 Status: OK