Package: ALDEx2 Version: 1.42.0 Command: /Library/Frameworks/R.framework/Resources/bin/R CMD build --keep-empty-dirs --no-resave-data ALDEx2 StartedAt: 2025-10-29 22:42:12 -0400 (Wed, 29 Oct 2025) EndedAt: 2025-10-29 22:44:04 -0400 (Wed, 29 Oct 2025) EllapsedTime: 111.8 seconds RetCode: 0 Status: OK PackageFile: ALDEx2_1.42.0.tar.gz PackageFileSize: 3.091 MiB