Package: ALDEx2 Version: 1.40.0 Command: /home/biocbuild/R/R/bin/R CMD INSTALL ALDEx2 StartedAt: 2025-10-02 20:29:46 -0000 (Thu, 02 Oct 2025) EndedAt: 2025-10-02 20:30:19 -0000 (Thu, 02 Oct 2025) EllapsedTime: 32.6 seconds RetCode: 0 Status: OK