Package: ALDEx2 Version: 1.40.0 Command: /home/biocbuild/R/R/bin/R CMD build --keep-empty-dirs --no-resave-data ALDEx2 StartedAt: 2025-10-02 22:30:02 -0000 (Thu, 02 Oct 2025) EndedAt: 2025-10-02 22:32:29 -0000 (Thu, 02 Oct 2025) EllapsedTime: 147.1 seconds RetCode: 0 Status: OK PackageFile: ALDEx2_1.40.0.tar.gz PackageFileSize: 3.07 MiB