Package: ALDEx2 Version: 1.42.0 Maintainer: Greg Gloor MaintainerEmail: ggloor at uwo.ca git_url: https://git.bioconductor.org/packages/ALDEx2 git_branch: RELEASE_3_22 git_last_commit: 4f92414 git_last_commit_date: 2025-10-29 10:21:46 -0500 (Wed, 29 Oct 2025)