Package: AIMS Version: 1.42.0 Command: /home/biocbuild/bbs-3.22-bioc/R/bin/R CMD INSTALL AIMS StartedAt: 2025-11-11 15:17:06 -0500 (Tue, 11 Nov 2025) EndedAt: 2025-11-11 15:17:09 -0500 (Tue, 11 Nov 2025) EllapsedTime: 3.1 seconds RetCode: 0 Status: OK