Package: AIMS Version: 1.40.0 Command: /home/biocbuild/R/R/bin/R CMD INSTALL AIMS StartedAt: 2025-10-06 20:24:10 -0000 (Mon, 06 Oct 2025) EndedAt: 2025-10-06 20:24:15 -0000 (Mon, 06 Oct 2025) EllapsedTime: 5.0 seconds RetCode: 0 Status: OK