Package: AIMS Version: 1.40.0 Command: /home/biocbuild/R/R/bin/R CMD build --keep-empty-dirs --no-resave-data AIMS StartedAt: 2025-10-06 22:29:12 -0000 (Mon, 06 Oct 2025) EndedAt: 2025-10-06 22:29:32 -0000 (Mon, 06 Oct 2025) EllapsedTime: 20.0 seconds RetCode: 0 Status: OK PackageFile: AIMS_1.40.0.tar.gz PackageFileSize: 482.7 KiB