Package: AIMS Version: 1.42.0 Command: /Library/Frameworks/R.framework/Resources/bin/R CMD INSTALL AIMS StartedAt: 2025-11-10 15:06:59 -0500 (Mon, 10 Nov 2025) EndedAt: 2025-11-10 15:07:01 -0500 (Mon, 10 Nov 2025) EllapsedTime: 2.0 seconds RetCode: 0 Status: OK