Package: AHMassBank Version: 1.10.0 Command: /home/biocbuild/bbs-3.22-bioc/R/bin/R CMD build --keep-empty-dirs --no-resave-data --md5 AHMassBank StartedAt: 2025-11-06 16:10:48 -0500 (Thu, 06 Nov 2025) EndedAt: 2025-11-06 16:11:49 -0500 (Thu, 06 Nov 2025) EllapsedTime: 61.0 seconds RetCode: 0 Status: OK PackageFile: AHMassBank_1.10.0.tar.gz PackageFileSize: 294.1 KiB