Package: AGDEX Version: 1.58.0 Command: /home/biocbuild/bbs-3.22-bioc/R/bin/R CMD build --keep-empty-dirs --no-resave-data --md5 AGDEX StartedAt: 2025-11-13 16:11:09 -0500 (Thu, 13 Nov 2025) EndedAt: 2025-11-13 16:11:31 -0500 (Thu, 13 Nov 2025) EllapsedTime: 22.0 seconds RetCode: 0 Status: OK PackageFile: AGDEX_1.58.0.tar.gz PackageFileSize: 488.7 KiB