Package: ADaCGH2 Version: 2.50.0 Command: /home/biocbuild/R/R/bin/R CMD INSTALL ADaCGH2 StartedAt: 2025-11-13 22:04:46 -0000 (Thu, 13 Nov 2025) EndedAt: 2025-11-13 22:05:19 -0000 (Thu, 13 Nov 2025) EllapsedTime: 32.6 seconds RetCode: 0 Status: OK