Package: ADaCGH2 Version: 2.50.0 Command: /home/biocbuild/bbs-3.22-bioc/R/bin/R CMD INSTALL ADaCGH2 StartedAt: 2025-11-11 15:59:22 -0500 (Tue, 11 Nov 2025) EndedAt: 2025-11-11 15:59:47 -0500 (Tue, 11 Nov 2025) EllapsedTime: 24.4 seconds RetCode: 0 Status: OK