Package: ADaCGH2 Version: 2.50.0 Command: /home/biocbuild/bbs-3.22-bioc/R/bin/R CMD check --install=check:ADaCGH2.install-out.txt --library=/home/biocbuild/bbs-3.22-bioc/R/site-library --timings ADaCGH2_2.50.0.tar.gz StartedAt: 2025-11-11 21:03:41 -0500 (Tue, 11 Nov 2025) EndedAt: 2025-11-11 21:09:00 -0500 (Tue, 11 Nov 2025) EllapsedTime: 318.4 seconds RetCode: 0 Status: OK CheckDir: ADaCGH2.Rcheck Warnings: 0