Package: ADaCGH2 Version: 2.48.0 Command: /Library/Frameworks/R.framework/Resources/bin/R CMD build --keep-empty-dirs --no-resave-data ADaCGH2 StartedAt: 2025-10-13 16:58:39 -0400 (Mon, 13 Oct 2025) EndedAt: 2025-10-13 17:01:56 -0400 (Mon, 13 Oct 2025) EllapsedTime: 196.1 seconds RetCode: 0 Status: OK PackageFile: ADaCGH2_2.48.0.tar.gz PackageFileSize: 1.169 MiB