Package: ADaCGH2 Version: 2.48.0 Maintainer: Ramon Diaz-Uriarte MaintainerEmail: rdiaz02 at gmail.com git_url: https://git.bioconductor.org/packages/ADaCGH2 git_branch: RELEASE_3_21 git_last_commit: 44324d5 git_last_commit_date: 2025-04-15 10:01:05 -0400 (Tue, 15 Apr 2025)