Package: ADAPT Version: 1.4.0 Command: /home/biocbuild/bbs-3.22-bioc/R/bin/R CMD INSTALL ADAPT StartedAt: 2025-11-11 15:27:18 -0500 (Tue, 11 Nov 2025) EndedAt: 2025-11-11 15:28:05 -0500 (Tue, 11 Nov 2025) EllapsedTime: 46.8 seconds RetCode: 0 Status: OK