Package: ADAPT Version: 1.4.0 Command: /home/biocbuild/bbs-3.22-bioc/R/bin/R CMD build --keep-empty-dirs --no-resave-data --md5 ADAPT StartedAt: 2025-11-11 16:12:57 -0500 (Tue, 11 Nov 2025) EndedAt: 2025-11-11 16:13:53 -0500 (Tue, 11 Nov 2025) EllapsedTime: 56.1 seconds RetCode: 0 Status: OK PackageFile: ADAPT_1.4.0.tar.gz PackageFileSize: 386.9 KiB