Package: ADAPT Version: 1.2.0 Command: /Library/Frameworks/R.framework/Resources/bin/R CMD INSTALL ADAPT StartedAt: 2025-04-21 15:21:57 -0400 (Mon, 21 Apr 2025) EndedAt: 2025-04-21 15:22:22 -0400 (Mon, 21 Apr 2025) EllapsedTime: 25.3 seconds RetCode: 1 Status: ERROR