Package: ADAPT Version: 1.2.0 Command: /home/biocbuild/R/R/bin/R CMD build --keep-empty-dirs --no-resave-data ADAPT StartedAt: 2025-10-02 22:27:09 -0000 (Thu, 02 Oct 2025) EndedAt: 2025-10-02 22:28:24 -0000 (Thu, 02 Oct 2025) EllapsedTime: 75.0 seconds RetCode: 1 Status: ERROR PackageFile: None PackageFileSize: NA