Package: ADAPT Version: 1.2.0 Command: /Library/Frameworks/R.framework/Resources/bin/R CMD INSTALL ADAPT StartedAt: 2025-10-13 15:45:39 -0400 (Mon, 13 Oct 2025) EndedAt: 2025-10-13 15:46:01 -0400 (Mon, 13 Oct 2025) EllapsedTime: 21.6 seconds RetCode: 1 Status: ERROR