Package: ADAPT Version: 1.2.0 Command: /Library/Frameworks/R.framework/Resources/bin/R CMD build --keep-empty-dirs --no-resave-data ADAPT StartedAt: 2025-10-13 18:48:06 -0400 (Mon, 13 Oct 2025) EndedAt: 2025-10-13 18:48:28 -0400 (Mon, 13 Oct 2025) EllapsedTime: 21.7 seconds RetCode: 1 Status: ERROR PackageFile: None PackageFileSize: NA