Package: ADAMgui Version: 1.26.0 Command: /home/biocbuild/R/R/bin/R CMD INSTALL ADAMgui StartedAt: 2025-11-13 21:55:58 -0000 (Thu, 13 Nov 2025) EndedAt: 2025-11-13 21:56:37 -0000 (Thu, 13 Nov 2025) EllapsedTime: 39.2 seconds RetCode: 0 Status: OK