Package: ADAMgui Version: 1.26.0 Command: /home/biocbuild/R/R/bin/R CMD build --keep-empty-dirs --no-resave-data ADAMgui StartedAt: 2025-11-13 23:19:18 -0000 (Thu, 13 Nov 2025) EndedAt: 2025-11-13 23:20:09 -0000 (Thu, 13 Nov 2025) EllapsedTime: 51.0 seconds RetCode: 0 Status: OK PackageFile: ADAMgui_1.26.0.tar.gz PackageFileSize: 1.746 MiB