Package: ADAMgui Version: 1.26.0 Command: /home/biocbuild/bbs-3.22-bioc/R/bin/R CMD check --install=check:ADAMgui.install-out.txt --library=/home/biocbuild/bbs-3.22-bioc/R/site-library --timings ADAMgui_1.26.0.tar.gz StartedAt: 2025-11-11 21:03:41 -0500 (Tue, 11 Nov 2025) EndedAt: 2025-11-11 21:07:11 -0500 (Tue, 11 Nov 2025) EllapsedTime: 209.3 seconds RetCode: 0 Status: OK CheckDir: ADAMgui.Rcheck Warnings: 0