Package: ADAMgui Version: 1.24.0 Command: /home/biocbuild/bbs-3.21-bioc/R/bin/R CMD INSTALL ADAMgui StartedAt: 2025-10-05 15:41:32 -0400 (Sun, 05 Oct 2025) EndedAt: 2025-10-05 15:42:01 -0400 (Sun, 05 Oct 2025) EllapsedTime: 29.3 seconds RetCode: 0 Status: OK