Package: ADAMgui Version: 1.24.0 Command: /home/biocbuild/bbs-3.21-bioc/R/bin/R CMD build --keep-empty-dirs --no-resave-data ADAMgui StartedAt: 2025-10-05 16:07:05 -0400 (Sun, 05 Oct 2025) EndedAt: 2025-10-05 16:07:44 -0400 (Sun, 05 Oct 2025) EllapsedTime: 39.1 seconds RetCode: 0 Status: OK PackageFile: ADAMgui_1.24.0.tar.gz PackageFileSize: 1.746 MiB