Package: ADAMgui Version: 1.24.0 Command: /Library/Frameworks/R.framework/Resources/bin/R CMD INSTALL ADAMgui StartedAt: 2025-10-13 16:25:34 -0400 (Mon, 13 Oct 2025) EndedAt: 2025-10-13 16:26:36 -0400 (Mon, 13 Oct 2025) EllapsedTime: 62.1 seconds RetCode: 0 Status: OK