Package: ADAMgui Version: 1.24.0 Command: /Library/Frameworks/R.framework/Resources/bin/R CMD INSTALL ADAMgui StartedAt: 2025-04-21 15:33:19 -0400 (Mon, 21 Apr 2025) EndedAt: 2025-04-21 15:33:58 -0400 (Mon, 21 Apr 2025) EllapsedTime: 38.5 seconds RetCode: 0 Status: OK