Package: ADAMgui Version: 1.24.0 Command: /Library/Frameworks/R.framework/Resources/bin/R CMD INSTALL ADAMgui StartedAt: 2025-10-02 17:45:35 -0400 (Thu, 02 Oct 2025) EndedAt: 2025-10-02 17:46:10 -0400 (Thu, 02 Oct 2025) EllapsedTime: 35.1 seconds RetCode: 0 Status: OK