Package: ADAMgui Version: 1.24.0 Command: rm -rf ADAMgui.buildbin-libdir && mkdir ADAMgui.buildbin-libdir && /Users/biocbuild/BBS/utils/build-universal.sh ADAMgui_1.24.0.tar.gz /Library/Frameworks/R.framework/Resources/bin/R ADAMgui.buildbin-libdir StartedAt: 2025-10-04 16:49:08 -0400 (Sat, 04 Oct 2025) EndedAt: 2025-10-04 16:49:47 -0400 (Sat, 04 Oct 2025) EllapsedTime: 38.6 seconds RetCode: 0 Status: OK PackageFile: ADAMgui_1.24.0.tgz PackageFileSize: 919.2 KiB