Package: ADAM Version: 1.26.0 Command: /home/biocbuild/bbs-3.22-bioc/R/bin/R CMD INSTALL ADAM StartedAt: 2025-11-11 15:43:24 -0500 (Tue, 11 Nov 2025) EndedAt: 2025-11-11 15:43:56 -0500 (Tue, 11 Nov 2025) EllapsedTime: 32.2 seconds RetCode: 0 Status: OK