Package: ADAM Version: 1.26.0 Command: /home/biocbuild/bbs-3.22-bioc/R/bin/R CMD check --install=check:ADAM.install-out.txt --library=/home/biocbuild/bbs-3.22-bioc/R/site-library --timings ADAM_1.26.0.tar.gz StartedAt: 2025-11-13 21:01:54 -0500 (Thu, 13 Nov 2025) EndedAt: 2025-11-13 21:05:10 -0500 (Thu, 13 Nov 2025) EllapsedTime: 196.3 seconds RetCode: 0 Status: OK CheckDir: ADAM.Rcheck Warnings: 0