Package: ADAM Version: 1.26.0 Command: /home/biocbuild/bbs-3.22-bioc/R/bin/R CMD build --keep-empty-dirs --no-resave-data --md5 ADAM StartedAt: 2025-11-11 16:12:53 -0500 (Tue, 11 Nov 2025) EndedAt: 2025-11-11 16:13:36 -0500 (Tue, 11 Nov 2025) EllapsedTime: 43.1 seconds RetCode: 0 Status: OK PackageFile: ADAM_1.26.0.tar.gz PackageFileSize: 321.9 KiB