Package: ADAM Version: 1.24.0 Command: /home/biocbuild/bbs-3.21-bioc/R/bin/R CMD INSTALL ADAM StartedAt: 2025-10-15 15:44:10 -0400 (Wed, 15 Oct 2025) EndedAt: 2025-10-15 15:44:42 -0400 (Wed, 15 Oct 2025) EllapsedTime: 32.2 seconds RetCode: 0 Status: OK