Package: ADAM Version: 1.24.0 Command: /home/biocbuild/R/R/bin/R CMD INSTALL ADAM StartedAt: 2025-09-25 21:02:05 -0000 (Thu, 25 Sep 2025) EndedAt: 2025-09-25 21:02:53 -0000 (Thu, 25 Sep 2025) EllapsedTime: 47.7 seconds RetCode: 0 Status: OK