Package: ADAM Version: 1.24.0 Command: /home/biocbuild/R/R/bin/R CMD build --keep-empty-dirs --no-resave-data ADAM StartedAt: 2025-09-25 22:29:10 -0000 (Thu, 25 Sep 2025) EndedAt: 2025-09-25 22:30:12 -0000 (Thu, 25 Sep 2025) EllapsedTime: 62.0 seconds RetCode: 0 Status: OK PackageFile: ADAM_1.24.0.tar.gz PackageFileSize: 376.2 KiB