Package: ADAM Version: 1.24.0 Command: rm -rf ADAM.buildbin-libdir && mkdir ADAM.buildbin-libdir && /Users/biocbuild/BBS/utils/build-universal.sh ADAM_1.24.0.tar.gz /Library/Frameworks/R.framework/Resources/bin/R ADAM.buildbin-libdir StartedAt: 2025-04-21 22:25:26 -0400 (Mon, 21 Apr 2025) EndedAt: 2025-04-21 22:25:40 -0400 (Mon, 21 Apr 2025) EllapsedTime: 14.3 seconds RetCode: 0 Status: OK PackageFile: ADAM_1.24.0.tgz PackageFileSize: 397.8 KiB