Package: ADAM Version: 1.24.0 Command: /Library/Frameworks/R.framework/Resources/bin/R CMD INSTALL ADAM StartedAt: 2025-10-13 17:37:29 -0400 (Mon, 13 Oct 2025) EndedAt: 2025-10-13 17:38:06 -0400 (Mon, 13 Oct 2025) EllapsedTime: 37.3 seconds RetCode: 0 Status: OK