Package: ADAM Version: 1.26.0 Maintainer: Jose Luiz Rybarczyk Filho MaintainerEmail: jose.luiz at unesp.br git_url: https://git.bioconductor.org/packages/ADAM git_branch: RELEASE_3_22 git_last_commit: 11eb08c git_last_commit_date: 2025-10-29 10:48:58 -0400 (Wed, 29 Oct 2025)