Package: ACME Version: 2.66.0 Command: /home/biocbuild/bbs-3.22-bioc/R/bin/R CMD INSTALL ACME StartedAt: 2025-11-11 15:16:33 -0500 (Tue, 11 Nov 2025) EndedAt: 2025-11-11 15:16:37 -0500 (Tue, 11 Nov 2025) EllapsedTime: 4.6 seconds RetCode: 0 Status: OK