Package: ACME Version: 2.66.0 Command: /home/biocbuild/bbs-3.22-bioc/R/bin/R CMD build --keep-empty-dirs --no-resave-data --md5 ACME StartedAt: 2025-11-11 16:12:53 -0500 (Tue, 11 Nov 2025) EndedAt: 2025-11-11 16:13:15 -0500 (Tue, 11 Nov 2025) EllapsedTime: 22.0 seconds RetCode: 0 Status: OK PackageFile: ACME_2.66.0.tar.gz PackageFileSize: 9.911 MiB