Package: ACME Version: 2.66.0 Command: /Library/Frameworks/R.framework/Resources/bin/R CMD INSTALL ACME StartedAt: 2025-11-03 15:18:52 -0500 (Mon, 03 Nov 2025) EndedAt: 2025-11-03 15:19:03 -0500 (Mon, 03 Nov 2025) EllapsedTime: 10.3 seconds RetCode: 0 Status: OK